BEGIN:VCALENDAR
VERSION:2.0
CALSCALE:GREGORIAN
PRODID:-//Diputació de Barcelona//DibaCMS//EN
BEGIN:VEVENT
UID:8573
DTSTAMP:20260421T111046
DTSTART:20260329T190000
DTEND:20260329T210000
SUMMARY:DANSA: "Folk as queer"
LOCATION:Domènec Carles, 21 08348 Cabrils
METHOD:PUBLISH
X-WR-CALNAME:ajuntament@cabrils.cat
X-WR-TIMEZONE:Europe/Madrid
DESCRIPTION:Premi Delfí Colomé 2023. Una recerca incansable per acabar trobant el lloc on els cossos intercanvien llenguatges i aprenen a ballar una nova dansa.

Entrades a: www.cabrils.cat/entrades

URI:https://www.cabrils.cat/actualitat/agenda/dansa-folk-as-queer.html
CLASS:PUBLIC
END:VEVENT
END:VCALENDAR
