BEGIN:VCALENDAR
VERSION:2.0
CALSCALE:GREGORIAN
PRODID:-//Diputació de Barcelona//DibaCMS//EN
BEGIN:VEVENT
UID:8570
DTSTAMP:20260419T144427
DTSTART:20260323T173000
DTEND:20260323T183000
SUMMARY:Taller sensorial i gastronòmic
LOCATION:Domènec Carles, 21 08348 Cabrils
METHOD:PUBLISH
X-WR-CALNAME:ajuntament@cabrils.cat
X-WR-TIMEZONE:Europe/Madrid
DESCRIPTION:“Un univers dins d’un gra” a càrrec d’Avenir Cultura.

Activitat per a infants de 3 a 7 anys, amb especial atenció a infants amb TEA o dificultats de comunicació.

Cal inscripció prèvia. Aforament limitat.

Activitat del projecte Biblioteques amb D.O

URI:https://www.cabrils.cat/actualitat/agenda/taller-sensorial-i-gastronomic.html
CLASS:PUBLIC
END:VEVENT
END:VCALENDAR
