BEGIN:VCALENDAR
VERSION:2.0
CALSCALE:GREGORIAN
PRODID:-//Diputació de Barcelona//DibaCMS//EN
BEGIN:VEVENT
UID:8569
DTSTAMP:20260421T105504
DTSTART:20260319T190000
DTEND:20260319T200000
SUMMARY:Book Club
LOCATION:Domènec Carles, 21 08348 Cabrils
METHOD:PUBLISH
X-WR-CALNAME:ajuntament@cabrils.cat
X-WR-TIMEZONE:Europe/Madrid
DESCRIPTION:“The bear came over the mountain” d’Alice Munro, activitat en anglès a càrrec de Laura Patricio.

Cal inscripció prèvia.

URI:https://www.cabrils.cat/actualitat/agenda/book-club-20260319.html
CLASS:PUBLIC
END:VEVENT
END:VCALENDAR
