BEGIN:VCALENDAR
VERSION:2.0
CALSCALE:GREGORIAN
PRODID:-//Diputació de Barcelona//DibaCMS//EN
BEGIN:VEVENT
UID:8567
DTSTAMP:20260421T124507
DTSTART:20260318T190000
DTEND:20260318T200000
SUMMARY:Presentació llibre: "Poemes de la veu trencada"
LOCATION:Domènec Carles, 21 08348 Cabrils
METHOD:PUBLISH
X-WR-CALNAME:ajuntament@cabrils.cat
X-WR-TIMEZONE:Europe/Madrid
DESCRIPTION:Presentació del llibre “Poemes de la veu trencada” de la cabrilenca Carme Rovira Ros.

URI:https://www.cabrils.cat/actualitat/agenda/presentacio-llibre-poemes-de-la-veu-trencada.html
CLASS:PUBLIC
END:VEVENT
END:VCALENDAR
