BEGIN:VCALENDAR
VERSION:2.0
CALSCALE:GREGORIAN
PRODID:-//Diputació de Barcelona//DibaCMS//EN
BEGIN:VEVENT
UID:7513
DTSTAMP:20260419T225817
DTSTART:20240627T081500
DTEND:20240627T093000
SUMMARY:Junta de Govern Local
LOCATION:Carrer Domènec Carles, 1 08348 Cabrils
METHOD:PUBLISH
X-WR-CALNAME:ajuntament@cabrils.cat
X-WR-TIMEZONE:Europe/Madrid
DESCRIPTION:
URI:https://www.cabrils.cat/ajuntament/8-organitzacio-municipal/agenda-politica/7513-junta-de-govern-local.html
CLASS:PUBLIC
END:VEVENT
END:VCALENDAR
