BEGIN:VCALENDAR
VERSION:2.0
CALSCALE:GREGORIAN
PRODID:-//Diputació de Barcelona//DibaCMS//EN
BEGIN:VEVENT
UID:7402
DTSTAMP:20260424T091511
DTSTART:20240614T090000
DTEND:20240614T140000
SUMMARY:Caminada popular
LOCATION:08348 Cabrils
METHOD:PUBLISH
X-WR-CALNAME:ajuntament@cabrils.cat
X-WR-TIMEZONE:Europe/Madrid
DESCRIPTION:
URI:https://www.cabrils.cat/actualitat/agenda/caminada-popular.html
CLASS:PUBLIC
END:VEVENT
END:VCALENDAR
